BEGIN:VCALENDAR
VERSION:2.0
PRODID:-//LGBT Health and Wellbeing - ECPv6.15.20//NONSGML v1.0//EN
CALSCALE:GREGORIAN
METHOD:PUBLISH
X-WR-CALNAME:LGBT Health and Wellbeing
X-ORIGINAL-URL:https://lgbthealth.org.uk
X-WR-CALDESC:Events for LGBT Health and Wellbeing
REFRESH-INTERVAL;VALUE=DURATION:PT1H
X-Robots-Tag:noindex
X-PUBLISHED-TTL:PT1H
BEGIN:VTIMEZONE
TZID:Europe/London
BEGIN:DAYLIGHT
TZOFFSETFROM:+0000
TZOFFSETTO:+0100
TZNAME:BST
DTSTART:20240331T010000
END:DAYLIGHT
BEGIN:STANDARD
TZOFFSETFROM:+0100
TZOFFSETTO:+0000
TZNAME:GMT
DTSTART:20241027T010000
END:STANDARD
BEGIN:DAYLIGHT
TZOFFSETFROM:+0000
TZOFFSETTO:+0100
TZNAME:BST
DTSTART:20250330T010000
END:DAYLIGHT
BEGIN:STANDARD
TZOFFSETFROM:+0100
TZOFFSETTO:+0000
TZNAME:GMT
DTSTART:20251026T010000
END:STANDARD
BEGIN:DAYLIGHT
TZOFFSETFROM:+0000
TZOFFSETTO:+0100
TZNAME:BST
DTSTART:20260329T010000
END:DAYLIGHT
BEGIN:STANDARD
TZOFFSETFROM:+0100
TZOFFSETTO:+0000
TZNAME:GMT
DTSTART:20261025T010000
END:STANDARD
BEGIN:DAYLIGHT
TZOFFSETFROM:+0000
TZOFFSETTO:+0100
TZNAME:BST
DTSTART:20270328T010000
END:DAYLIGHT
BEGIN:STANDARD
TZOFFSETFROM:+0100
TZOFFSETTO:+0000
TZNAME:GMT
DTSTART:20271031T010000
END:STANDARD
END:VTIMEZONE
BEGIN:VEVENT
DTSTART;TZID=Europe/London:20260402T183000
DTEND;TZID=Europe/London:20260402T213000
DTSTAMP:20260425T212552
CREATED:20260403T100619Z
LAST-MODIFIED:20260414T143433Z
UID:10000912-1775154600-1775165400@lgbthealth.org.uk
SUMMARY:Stepping Out
DESCRIPTION:This group is a drop in session for young adults (16-25yrs)\, where you can come to socialise\, play pool or boardgames. \n  \nRefreshments are available. \n  \nOur Group Leaders are always on hand to support you where they can\, and signpost you to further support if you need it. \n  \nWe welcome new members\, and we are happy to meet you before hand  if you are feeling anxious\, just drop us a message. \n  \nWe meet every Thursday at The Haven in Wick (18:30-21:30). \n  \nYou can contact us for more information: steppingoutcaithness@hotmail.com \n  \nWe are a community group led by community members with support from LGBT Health and Wellbeing.
URL:https://lgbthealth.org.uk/event/stepping-out/2026-04-02/
LOCATION:The Haven\, Wick Police Station Bankhead\, Wick\, KW1 5LB\, United Kingdom
CATEGORIES:All LGBTQ+,Highlands
ATTACH;FMTTYPE=image/png:https://lgbthealth.org.uk/wp-content/uploads/2026/03/Stepping-Out-SQ.png
ORGANIZER;CN="Stepping Out":MAILTO:steppingoutcaithness@hotmail.com
END:VEVENT
BEGIN:VEVENT
DTSTART;TZID=Europe/London:20260402T181500
DTEND;TZID=Europe/London:20260402T203000
DTSTAMP:20260425T212552
CREATED:20260326T173516Z
LAST-MODIFIED:20260410T115542Z
UID:10000835-1775153700-1775161800@lgbthealth.org.uk
SUMMARY:Edinburgh Trans Choir
DESCRIPTION:Are you trans\, able to get to Edinburgh\, and want to sing? \n  \nWe are Edinburgh Trans Choir (ETC)\, a relaxed biweekly choir by trans people for trans people. Come along every other Thursday to LGBT Health and Wellbeing at Duncan Place to learn trans-friendly vocal exercises and sing in a safe environment. \n  \nNo need to know how to read music or make a longer commitment – we welcome singers of all levels and backgrounds\, and you can come and go as you like. \n  \nEdinburgh Trans Choir meets every 2 weeks on Thursday (6.15-8.30pm). at LGBT Health and Wellbeing. \n  \nYou can email us at edinburghtranschoir@gmail.com or phone LGBT Health and Wellbeing’s admin phone 0131 564 3970 and leave a message us. You can ask to subscribe to our newsletter to receive updates. We are also on Instagram @edinburghtranschoir. We volunteer in our own time so there might be a delay in getting back to you. \n  \nWe are a community group led by community members with support from LGBT Health and Wellbeing.
URL:https://lgbthealth.org.uk/event/edinburgh-trans-choir/2026-04-02/
LOCATION:LGBT Health and Wellbeing\, 4 Duncan Place\, Edinburgh\, EH6 8HW\, United Kingdom
CATEGORIES:Edinburgh,Trans and Non-Binary
ATTACH;FMTTYPE=image/png:https://lgbthealth.org.uk/wp-content/uploads/2025/01/Edinburgh-Trans-Choir-1.png
ORGANIZER;CN="Edinburgh Trans Choir":MAILTO:edinburghtranschoir@gmail.com
GEO:55.9699976;-3.1683591
X-APPLE-STRUCTURED-LOCATION;VALUE=URI;X-ADDRESS=LGBT Health and Wellbeing 4 Duncan Place Edinburgh EH6 8HW United Kingdom;X-APPLE-RADIUS=500;X-TITLE=4 Duncan Place:geo:-3.1683591,55.9699976
END:VEVENT
BEGIN:VEVENT
DTSTART;TZID=Europe/London:20260401T183000
DTEND;TZID=Europe/London:20260401T200000
DTSTAMP:20260425T212552
CREATED:20260326T161713Z
LAST-MODIFIED:20260414T143426Z
UID:10000772-1775068200-1775073600@lgbthealth.org.uk
SUMMARY:Rainbow Ukes
DESCRIPTION:Rainbow Ukes is an inclusive\, welcoming\, and fun group that meets weekly to learn to play the ukulele. \n  \nWe meet every week on Wednesday (6.30-8pm) at Transmission Gallery. \n  \nFor new members\, we also offer a one-off introductory Getting to Know Uke information session or/and 6-week Beginners’ Block Course of lessons a few times per year to give you the foundation skills to feel confident in the group. \n  \nThe group is led by Tim (volunteer group leader) and Sarah (Scotland Ukulele Project). We focus on learning a variety of songs together\, and playing the songs we already have in our repertoire! \n  \nYou can email Rainbow Ukes at rainbowukes@gmail.com or phone 0141 255 1767 and leave a message for the group. Please note we are volunteers so there may be a delay in getting back to you. \n  \nWe are a community group led by community members with support from LGBT Health and Wellbeing.
URL:https://lgbthealth.org.uk/event/rainbow-ukes/2026-04-01/
LOCATION:Transmission Gallery\, 28 King Street\, Glasgow\, G1 5QP\, United Kingdom
CATEGORIES:All LGBTQ+,Glasgow
ATTACH;FMTTYPE=image/png:https://lgbthealth.org.uk/wp-content/uploads/2025/01/Website-images.png
ORGANIZER;CN="Rainbow Ukes":MAILTO:rainbowukes@gmail.com
GEO:55.8566157;-4.2466288
X-APPLE-STRUCTURED-LOCATION;VALUE=URI;X-ADDRESS=Transmission Gallery 28 King Street Glasgow G1 5QP United Kingdom;X-APPLE-RADIUS=500;X-TITLE=28 King Street:geo:-4.2466288,55.8566157
END:VEVENT
BEGIN:VEVENT
DTSTART;TZID=Europe/London:20250626T170000
DTEND;TZID=Europe/London:20250626T190000
DTSTAMP:20260425T212552
CREATED:20250228T143559Z
LAST-MODIFIED:20250430T152805Z
UID:10000708-1750957200-1750964400@lgbthealth.org.uk
SUMMARY:Coffee Posse
DESCRIPTION:A safe space for LGBTQ+ people who are 50 and over to have a brew and a blether. \n  \nAnyone aged 50 and above is welcome to join our online meetup. It is a welcoming and safe space where you can meet new people\, catch up with old friends and connect with your local community. \n  \nThe LGBT Age team will be there to meet and greet you. There will be some gentle\, no pressure relaxed social activities to help folks introduce themselves and get to know each other\, and we’ll use breakout rooms for smaller group chats.
URL:https://lgbthealth.org.uk/event/coffee-posse-glasgow/2025-06-26/
LOCATION:Carlton Heritage and Learning Centre\, 423 London Rd\, Glasgow\, G40 1AG\, United Kingdom
CATEGORIES:50 and over,Glasgow
ATTACH;FMTTYPE=image/png:https://lgbthealth.org.uk/wp-content/uploads/2025/02/Coffee-Posse-Glasgow.png
ORGANIZER;CN="Jean":MAILTO:jean@lgbthealth.org.uk
GEO:55.8513252;-4.2326223
X-APPLE-STRUCTURED-LOCATION;VALUE=URI;X-ADDRESS=Carlton Heritage and Learning Centre 423 London Rd Glasgow G40 1AG United Kingdom;X-APPLE-RADIUS=500;X-TITLE=423 London Rd:geo:-4.2326223,55.8513252
END:VEVENT
BEGIN:VEVENT
DTSTART;TZID=Europe/London:20250619T170000
DTEND;TZID=Europe/London:20250619T183000
DTSTAMP:20260425T212552
CREATED:20250228T144112Z
LAST-MODIFIED:20250430T152133Z
UID:10000704-1750352400-1750357800@lgbthealth.org.uk
SUMMARY:Coffee Posse
DESCRIPTION:Grab your favorite mug and connect with LGBTQ+ people from across Scotland in the comfort of your own home. \n  \nAnyone aged 50 and above is welcome to join our online meetup. It is a welcoming and safe space where you can meet new people\, catch up with old friends and connect with your local community. \n  \nThe LGBT Age team will be there to meet and greet you. There will be some gentle\, no pressure relaxed social activities to help folks introduce themselves and get to know each other\, and we’ll use breakout rooms for smaller group chats.
URL:https://lgbthealth.org.uk/event/coffee-posse-online/2025-06-19/
LOCATION:Online\, Online\, United Kingdom
CATEGORIES:50 and over,Online
ATTACH;FMTTYPE=image/png:https://lgbthealth.org.uk/wp-content/uploads/2025/01/Coffee-Posse-Online.png
ORGANIZER;CN="Jean":MAILTO:jean@lgbthealth.org.uk
GEO:55.378051;-3.435973
END:VEVENT
BEGIN:VEVENT
DTSTART;TZID=Europe/London:20250522T170000
DTEND;TZID=Europe/London:20250522T190000
DTSTAMP:20260425T212552
CREATED:20250228T143559Z
LAST-MODIFIED:20250430T152805Z
UID:10000482-1747933200-1747940400@lgbthealth.org.uk
SUMMARY:Coffee Posse
DESCRIPTION:A safe space for LGBTQ+ people who are 50 and over to have a brew and a blether. \n  \nAnyone aged 50 and above is welcome to join our online meetup. It is a welcoming and safe space where you can meet new people\, catch up with old friends and connect with your local community. \n  \nThe LGBT Age team will be there to meet and greet you. There will be some gentle\, no pressure relaxed social activities to help folks introduce themselves and get to know each other\, and we’ll use breakout rooms for smaller group chats.
URL:https://lgbthealth.org.uk/event/coffee-posse-glasgow/2025-05-22/
LOCATION:Carlton Heritage and Learning Centre\, 423 London Rd\, Glasgow\, G40 1AG\, United Kingdom
CATEGORIES:50 and over,Glasgow
ATTACH;FMTTYPE=image/png:https://lgbthealth.org.uk/wp-content/uploads/2025/02/Coffee-Posse-Glasgow.png
ORGANIZER;CN="Jean":MAILTO:jean@lgbthealth.org.uk
GEO:55.8513252;-4.2326223
X-APPLE-STRUCTURED-LOCATION;VALUE=URI;X-ADDRESS=Carlton Heritage and Learning Centre 423 London Rd Glasgow G40 1AG United Kingdom;X-APPLE-RADIUS=500;X-TITLE=423 London Rd:geo:-4.2326223,55.8513252
END:VEVENT
BEGIN:VEVENT
DTSTART;TZID=Europe/London:20250515T170000
DTEND;TZID=Europe/London:20250515T183000
DTSTAMP:20260425T212552
CREATED:20250228T144112Z
LAST-MODIFIED:20250430T152133Z
UID:10000485-1747328400-1747333800@lgbthealth.org.uk
SUMMARY:Coffee Posse
DESCRIPTION:Grab your favorite mug and connect with LGBTQ+ people from across Scotland in the comfort of your own home. \n  \nAnyone aged 50 and above is welcome to join our online meetup. It is a welcoming and safe space where you can meet new people\, catch up with old friends and connect with your local community. \n  \nThe LGBT Age team will be there to meet and greet you. There will be some gentle\, no pressure relaxed social activities to help folks introduce themselves and get to know each other\, and we’ll use breakout rooms for smaller group chats.
URL:https://lgbthealth.org.uk/event/coffee-posse-online/2025-05-15/
LOCATION:Online\, Online\, United Kingdom
CATEGORIES:50 and over,Online
ATTACH;FMTTYPE=image/png:https://lgbthealth.org.uk/wp-content/uploads/2025/01/Coffee-Posse-Online.png
ORGANIZER;CN="Jean":MAILTO:jean@lgbthealth.org.uk
GEO:55.378051;-3.435973
END:VEVENT
BEGIN:VEVENT
DTSTART;TZID=Europe/London:20250424T170000
DTEND;TZID=Europe/London:20250424T190000
DTSTAMP:20260425T212552
CREATED:20250228T143559Z
LAST-MODIFIED:20250430T152805Z
UID:10000481-1745514000-1745521200@lgbthealth.org.uk
SUMMARY:Coffee Posse
DESCRIPTION:A safe space for LGBTQ+ people who are 50 and over to have a brew and a blether. \n  \nAnyone aged 50 and above is welcome to join our online meetup. It is a welcoming and safe space where you can meet new people\, catch up with old friends and connect with your local community. \n  \nThe LGBT Age team will be there to meet and greet you. There will be some gentle\, no pressure relaxed social activities to help folks introduce themselves and get to know each other\, and we’ll use breakout rooms for smaller group chats.
URL:https://lgbthealth.org.uk/event/coffee-posse-glasgow/2025-04-24/
LOCATION:Carlton Heritage and Learning Centre\, 423 London Rd\, Glasgow\, G40 1AG\, United Kingdom
CATEGORIES:50 and over,Glasgow
ATTACH;FMTTYPE=image/png:https://lgbthealth.org.uk/wp-content/uploads/2025/02/Coffee-Posse-Glasgow.png
ORGANIZER;CN="Jean":MAILTO:jean@lgbthealth.org.uk
GEO:55.8513252;-4.2326223
X-APPLE-STRUCTURED-LOCATION;VALUE=URI;X-ADDRESS=Carlton Heritage and Learning Centre 423 London Rd Glasgow G40 1AG United Kingdom;X-APPLE-RADIUS=500;X-TITLE=423 London Rd:geo:-4.2326223,55.8513252
END:VEVENT
BEGIN:VEVENT
DTSTART;TZID=Europe/London:20250417T170000
DTEND;TZID=Europe/London:20250417T183000
DTSTAMP:20260425T212552
CREATED:20250228T144112Z
LAST-MODIFIED:20250430T152133Z
UID:10000484-1744909200-1744914600@lgbthealth.org.uk
SUMMARY:Coffee Posse
DESCRIPTION:Grab your favorite mug and connect with LGBTQ+ people from across Scotland in the comfort of your own home. \n  \nAnyone aged 50 and above is welcome to join our online meetup. It is a welcoming and safe space where you can meet new people\, catch up with old friends and connect with your local community. \n  \nThe LGBT Age team will be there to meet and greet you. There will be some gentle\, no pressure relaxed social activities to help folks introduce themselves and get to know each other\, and we’ll use breakout rooms for smaller group chats.
URL:https://lgbthealth.org.uk/event/coffee-posse-online/2025-04-17/
LOCATION:Online\, Online\, United Kingdom
CATEGORIES:50 and over,Online
ATTACH;FMTTYPE=image/png:https://lgbthealth.org.uk/wp-content/uploads/2025/01/Coffee-Posse-Online.png
ORGANIZER;CN="Jean":MAILTO:jean@lgbthealth.org.uk
GEO:55.378051;-3.435973
END:VEVENT
BEGIN:VEVENT
DTSTART;TZID=Europe/London:20250327T170000
DTEND;TZID=Europe/London:20250327T190000
DTSTAMP:20260425T212552
CREATED:20250228T143559Z
LAST-MODIFIED:20250430T152805Z
UID:10000480-1743094800-1743102000@lgbthealth.org.uk
SUMMARY:Coffee Posse
DESCRIPTION:A safe space for LGBTQ+ people who are 50 and over to have a brew and a blether. \n  \nAnyone aged 50 and above is welcome to join our online meetup. It is a welcoming and safe space where you can meet new people\, catch up with old friends and connect with your local community. \n  \nThe LGBT Age team will be there to meet and greet you. There will be some gentle\, no pressure relaxed social activities to help folks introduce themselves and get to know each other\, and we’ll use breakout rooms for smaller group chats.
URL:https://lgbthealth.org.uk/event/coffee-posse-glasgow/2025-03-27/
LOCATION:Carlton Heritage and Learning Centre\, 423 London Rd\, Glasgow\, G40 1AG\, United Kingdom
CATEGORIES:50 and over,Glasgow
ATTACH;FMTTYPE=image/png:https://lgbthealth.org.uk/wp-content/uploads/2025/02/Coffee-Posse-Glasgow.png
ORGANIZER;CN="Jean":MAILTO:jean@lgbthealth.org.uk
GEO:55.8513252;-4.2326223
X-APPLE-STRUCTURED-LOCATION;VALUE=URI;X-ADDRESS=Carlton Heritage and Learning Centre 423 London Rd Glasgow G40 1AG United Kingdom;X-APPLE-RADIUS=500;X-TITLE=423 London Rd:geo:-4.2326223,55.8513252
END:VEVENT
BEGIN:VEVENT
DTSTART;TZID=Europe/London:20250320T170000
DTEND;TZID=Europe/London:20250320T183000
DTSTAMP:20260425T212552
CREATED:20250228T144112Z
LAST-MODIFIED:20250430T152133Z
UID:10000483-1742490000-1742495400@lgbthealth.org.uk
SUMMARY:Coffee Posse
DESCRIPTION:Grab your favorite mug and connect with LGBTQ+ people from across Scotland in the comfort of your own home. \n  \nAnyone aged 50 and above is welcome to join our online meetup. It is a welcoming and safe space where you can meet new people\, catch up with old friends and connect with your local community. \n  \nThe LGBT Age team will be there to meet and greet you. There will be some gentle\, no pressure relaxed social activities to help folks introduce themselves and get to know each other\, and we’ll use breakout rooms for smaller group chats.
URL:https://lgbthealth.org.uk/event/coffee-posse-online/2025-03-20/
LOCATION:Online\, Online\, United Kingdom
CATEGORIES:50 and over,Online
ATTACH;FMTTYPE=image/png:https://lgbthealth.org.uk/wp-content/uploads/2025/01/Coffee-Posse-Online.png
ORGANIZER;CN="Jean":MAILTO:jean@lgbthealth.org.uk
GEO:55.378051;-3.435973
END:VEVENT
END:VCALENDAR